BEGIN:VCALENDAR
VERSION:2.0
PRODID:-//PHCG - ECPv6.15.20//NONSGML v1.0//EN
CALSCALE:GREGORIAN
METHOD:PUBLISH
X-WR-CALNAME:PHCG
X-ORIGINAL-URL:https://phcg.info
X-WR-CALDESC:Veranstaltungen für PHCG
REFRESH-INTERVAL;VALUE=DURATION:PT1H
X-Robots-Tag:noindex
X-PUBLISHED-TTL:PT1H
BEGIN:VTIMEZONE
TZID:Europe/Berlin
BEGIN:DAYLIGHT
TZOFFSETFROM:+0100
TZOFFSETTO:+0200
TZNAME:CEST
DTSTART:20250330T010000
END:DAYLIGHT
BEGIN:STANDARD
TZOFFSETFROM:+0200
TZOFFSETTO:+0100
TZNAME:CET
DTSTART:20251026T010000
END:STANDARD
BEGIN:DAYLIGHT
TZOFFSETFROM:+0100
TZOFFSETTO:+0200
TZNAME:CEST
DTSTART:20260329T010000
END:DAYLIGHT
BEGIN:STANDARD
TZOFFSETFROM:+0200
TZOFFSETTO:+0100
TZNAME:CET
DTSTART:20261025T010000
END:STANDARD
BEGIN:DAYLIGHT
TZOFFSETFROM:+0100
TZOFFSETTO:+0200
TZNAME:CEST
DTSTART:20270328T010000
END:DAYLIGHT
BEGIN:STANDARD
TZOFFSETFROM:+0200
TZOFFSETTO:+0100
TZNAME:CET
DTSTART:20271031T010000
END:STANDARD
END:VTIMEZONE
BEGIN:VEVENT
DTSTART;TZID=Europe/Berlin:20260725T110000
DTEND;TZID=Europe/Berlin:20260725T170000
DTSTAMP:20260423T165837
CREATED:20260303T145557Z
LAST-MODIFIED:20260316T133426Z
UID:9014-1784977200-1784998800@phcg.info
SUMMARY:Zuchtschau Niedersachsen ( PLZ 27721)
DESCRIPTION:Nennschluss: 05.07.2026 \nUnterbringungsmöglichkeiten für den Tag: \nBox – 15 Euro
URL:https://phcg.info/event/zuchtschau-niedersachsen-plz-27721/
LOCATION:Christina und Frank Schiefner\, Werchenregerstr. 28\, Ritterhude\, 27721\, Germany
CATEGORIES:ZUCHTSCHAU
END:VEVENT
BEGIN:VEVENT
DTSTART;TZID=Europe/Berlin:20260726T110000
DTEND;TZID=Europe/Berlin:20260726T170000
DTSTAMP:20260423T165837
CREATED:20260303T145852Z
LAST-MODIFIED:20260316T133841Z
UID:9017-1785063600-1785085200@phcg.info
SUMMARY:Zuchtschau Nordrhein-Westfalen ( PLZ 46325)
DESCRIPTION:Nennschluss: 05.07.2026 \nUnterbringungsmöglichkeiten für den Tag: \nBox – 10 Euro\nfester Paddock – 10 Euro
URL:https://phcg.info/event/zuchtschau-nordrhein-westfalen-plz-46325/
LOCATION:Petra Papenberg\, Vardingholterstr 29\, Borken\, 46325
CATEGORIES:ZUCHTSCHAU
END:VEVENT
END:VCALENDAR